BEGIN:VCALENDAR
VERSION:2.0
PRODID:-//hacksw/handcal//NONSGML v1.0//EN
BEGIN:VEVENT
SUMMARY:Challenge Equip' Athle  Regional Benjamins / Minimes  a Pont L'Abbe le 9 mai 2026
UID:4d8873a8-a085-48d6-bf05-429dd9cecb65
DTSTART:20260509T060000Z
DTEND:20260509T170000Z
LOCATION:Localisation stade municipal 29120 Pont L'Abbe
CATEGORIES:Sportif
STATUS:
DESCRIPTION:<p><span style="font-size:20px;"><strong>Le 9 mai 2026
 aura lieu a Pont l'Abbe  le tour regional du Challenge Equip Athle
 .</strong></span></p>
 
 <p>Afin d'etre prets pour les premieres
 epreuves qui debutent a 11h00, il faudra etre present au Stade
 municipal de Pont L'Abbe pour 10h.</p>
 
 <p><span
 style="font-size:16px;"><strong>Le rendez-vous de depart est fixe a
 la salle Jean Touze a BRESTIVAN a 8h. (merci de renseigner la partie
 covoiturage lors de votre
 inscription)</strong></span></p>
 
 <p><strong><span
 style="color:#c0392b;"><span style="font-size:18px;">Sur vos
 reponses, qui doivent nous parvenir pour le 3 mai au plus tard, merci
 de preciser les epreuves sur lesquelles vous desirez
 participer.</span></span> </strong><strong>(Au moins 3 epreuves, le
 relais n'est pas compris dans ces 3 epreuves et il sera ajoute).
 Preciser malgre tout si vous etes partants pour le relais afin de
 construire les equipes a l'avance.</strong></p>
 
 <p><strong>Vos choix
 pourront etre revus pour etre ajustes, avec votre accord, suivant le
 nombre d'athletes retenus par equipes et par
 discipline.</strong></p>
 
 <p><strong>Pour les Benjamins, ils
 s'engageront sur un triathlon classique (une course, un saut, un
 lancer).</strong></p>
 
 <p><strong>Pour les Minimes, le triathlon
 pourra etre classique ou oriente.<br />
 GENERAL 1 course+ 1 saut+ 1
 lancer<br />
 ORIENTE Sauts :  2 concours de Sauts + 1 course<br
 />
                  Lancers : 2 concours de Lancers + 1
 course<br />
                  Courses : 2 courses (de
 familles differentes) + 1 concours</strong></p>
 
 <p><br
 />
 <strong>L'equipe encadrante<br />
 <br />
              
  <br />
    </strong></p>
 
 <p> </p>
 
 <p> </p>
URL;VALUE=URI:https://www.athle-theix.fr/evenements/2026/05/09/challenge-equip-athle-regional-benjamins-minimes-a-pont-labbe-le-9-mai-2026-2441505
END:VEVENT
END:VCALENDAR
